BEGIN:VCALENDAR
VERSION:2.0
PRODID:-//paulina-ovadkova.com - ECPv6.15.14//NONSGML v1.0//EN
CALSCALE:GREGORIAN
METHOD:PUBLISH
X-WR-CALNAME:paulina-ovadkova.com
X-ORIGINAL-URL:https://paulina-ovadkova.com
X-WR-CALDESC:Events for paulina-ovadkova.com
REFRESH-INTERVAL;VALUE=DURATION:PT1H
X-Robots-Tag:noindex
X-PUBLISHED-TTL:PT1H
BEGIN:VTIMEZONE
TZID:Europe/Vienna
BEGIN:DAYLIGHT
TZOFFSETFROM:+0100
TZOFFSETTO:+0200
TZNAME:CEST
DTSTART:20230326T010000
END:DAYLIGHT
BEGIN:STANDARD
TZOFFSETFROM:+0200
TZOFFSETTO:+0100
TZNAME:CET
DTSTART:20231029T010000
END:STANDARD
BEGIN:DAYLIGHT
TZOFFSETFROM:+0100
TZOFFSETTO:+0200
TZNAME:CEST
DTSTART:20240331T010000
END:DAYLIGHT
BEGIN:STANDARD
TZOFFSETFROM:+0200
TZOFFSETTO:+0100
TZNAME:CET
DTSTART:20241027T010000
END:STANDARD
BEGIN:DAYLIGHT
TZOFFSETFROM:+0100
TZOFFSETTO:+0200
TZNAME:CEST
DTSTART:20250330T010000
END:DAYLIGHT
BEGIN:STANDARD
TZOFFSETFROM:+0200
TZOFFSETTO:+0100
TZNAME:CET
DTSTART:20251026T010000
END:STANDARD
END:VTIMEZONE
BEGIN:VEVENT
DTSTART;TZID=Europe/Vienna:20240331T093000
DTEND;TZID=Europe/Vienna:20240331T110000
DTSTAMP:20260420T012008
CREATED:20260202T083909Z
LAST-MODIFIED:20260202T083909Z
UID:10000036-1711877400-1711882800@paulina-ovadkova.com
SUMMARY:W.A.Mozart Spatzenmesse\, Sopran Solo
DESCRIPTION:W.A.Mozart Spatzenmesse\, Dirigiert Lukas Hasler\, Sopran Solo\nIn St. Michael and All Angels Episcopal Church (Los Angeles\, CA)\nMass in C major\, K. 220 “Sparrow Mass” by W.A. Mozart\, Conducted by Lukas Hasler\nFor choir\, soloists\, strings\, trumpets and timpani\nLocation :\nSt Michael and All Angels Episcopal Church\, Corona del Mar\, CA\, United States\nMehr Informationen unter \nSaint Michael & All Angels Episcopal Church (stmikescdm.org)
URL:https://paulina-ovadkova.com/concert/w-a-mozart-spatzenmesse-sopran-solo/
LOCATION:St. Michael and All Angels CDM\, St. Michael and All Angels CDM 3233 Pacific View Drive\, Corona del Mar\, CA\, 92625\, United States
ATTACH;FMTTYPE=image/jpeg:https://paulina-ovadkova.com/wp-content/uploads/2024/03/63f91eb7-53b9-4ccb-8d0c-b66f5c6c1eb0-e1711647916943.jpg
END:VEVENT
END:VCALENDAR