BEGIN:VCALENDAR
VERSION:2.0
PRODID:-//paulina-ovadkova.com - ECPv6.15.14//NONSGML v1.0//EN
CALSCALE:GREGORIAN
METHOD:PUBLISH
X-WR-CALNAME:paulina-ovadkova.com
X-ORIGINAL-URL:https://paulina-ovadkova.com
X-WR-CALDESC:Events for paulina-ovadkova.com
REFRESH-INTERVAL;VALUE=DURATION:PT1H
X-Robots-Tag:noindex
X-PUBLISHED-TTL:PT1H
BEGIN:VTIMEZONE
TZID:Europe/Vienna
BEGIN:DAYLIGHT
TZOFFSETFROM:+0100
TZOFFSETTO:+0200
TZNAME:CEST
DTSTART:20250330T010000
END:DAYLIGHT
BEGIN:STANDARD
TZOFFSETFROM:+0200
TZOFFSETTO:+0100
TZNAME:CET
DTSTART:20251026T010000
END:STANDARD
BEGIN:DAYLIGHT
TZOFFSETFROM:+0100
TZOFFSETTO:+0200
TZNAME:CEST
DTSTART:20260329T010000
END:DAYLIGHT
BEGIN:STANDARD
TZOFFSETFROM:+0200
TZOFFSETTO:+0100
TZNAME:CET
DTSTART:20261025T010000
END:STANDARD
BEGIN:DAYLIGHT
TZOFFSETFROM:+0100
TZOFFSETTO:+0200
TZNAME:CEST
DTSTART:20270328T010000
END:DAYLIGHT
BEGIN:STANDARD
TZOFFSETFROM:+0200
TZOFFSETTO:+0100
TZNAME:CET
DTSTART:20271031T010000
END:STANDARD
END:VTIMEZONE
BEGIN:VEVENT
DTSTART;TZID=Europe/Vienna:20260215T100000
DTEND;TZID=Europe/Vienna:20260215T110000
DTSTAMP:20260426T015255
CREATED:20260202T072253Z
LAST-MODIFIED:20260202T092620Z
UID:10000190-1771149600-1771153200@paulina-ovadkova.com
SUMMARY:Konzert in der Piaristenkirche in Trenčín mit dem Kammerorchester unter der Leitung von Katarína Zboray\, Werke von Händel.
DESCRIPTION:Konzert in der Piaristenkirche in Trenčín mit dem Kammerorchester unter der Leitung von Katarína Zboray\, Werke von Händel. \nIn der historischen Piaristenkirche in Trenčín präsentiert die Sopranistin Paulina Ovadkova ein festliches Konzert mit dem Kammerorchester unter der musikalischen Leitung von Katarína Zboray. Auf dem Programm stehen ausgewählte Werke von Georg Friedrich Händel\, einem der bedeutendsten Komponisten des Barock. \nDas Konzert verbindet barocke Klangtradition mit der besonderen Akustik der Piaristenkirche und verspricht ein außergewöhnliches Konzerterlebnis für Liebhaber klassischer Musik in Trenčín und der gesamten Region. \nMehr erfahren
URL:https://paulina-ovadkova.com/concert/konzert-in-der-piaristenkirche-in-trencin-mit-dem-kammerorchester-unter-der-leitung-von-katarina-zboray-werke-von-haendel/
LOCATION:Piaristenkirche in Trenčín\, Mierové námestie 43\, Trenčín\, 911 01\, Slovakia (Slovak Republic)
ATTACH;FMTTYPE=image/jpeg:https://paulina-ovadkova.com/wp-content/uploads/2026/02/organovy_koncert_tn26_dvaja-27-2048x1366-1.jpg
END:VEVENT
END:VCALENDAR