BEGIN:VCALENDAR
VERSION:2.0
PRODID:-//paulina-ovadkova.com - ECPv6.15.14//NONSGML v1.0//EN
CALSCALE:GREGORIAN
METHOD:PUBLISH
X-WR-CALNAME:paulina-ovadkova.com
X-ORIGINAL-URL:https://paulina-ovadkova.com
X-WR-CALDESC:Events for paulina-ovadkova.com
REFRESH-INTERVAL;VALUE=DURATION:PT1H
X-Robots-Tag:noindex
X-PUBLISHED-TTL:PT1H
BEGIN:VTIMEZONE
TZID:Europe/Vienna
BEGIN:DAYLIGHT
TZOFFSETFROM:+0100
TZOFFSETTO:+0200
TZNAME:CEST
DTSTART:20250330T010000
END:DAYLIGHT
BEGIN:STANDARD
TZOFFSETFROM:+0200
TZOFFSETTO:+0100
TZNAME:CET
DTSTART:20251026T010000
END:STANDARD
BEGIN:DAYLIGHT
TZOFFSETFROM:+0100
TZOFFSETTO:+0200
TZNAME:CEST
DTSTART:20260329T010000
END:DAYLIGHT
BEGIN:STANDARD
TZOFFSETFROM:+0200
TZOFFSETTO:+0100
TZNAME:CET
DTSTART:20261025T010000
END:STANDARD
BEGIN:DAYLIGHT
TZOFFSETFROM:+0100
TZOFFSETTO:+0200
TZNAME:CEST
DTSTART:20270328T010000
END:DAYLIGHT
BEGIN:STANDARD
TZOFFSETFROM:+0200
TZOFFSETTO:+0100
TZNAME:CET
DTSTART:20271031T010000
END:STANDARD
END:VTIMEZONE
BEGIN:VEVENT
DTSTART;TZID=Europe/Vienna:20260221T193000
DTEND;TZID=Europe/Vienna:20260221T203000
DTSTAMP:20260425T154630
CREATED:20250730T130901Z
LAST-MODIFIED:20260202T085104Z
UID:10000184-1771702200-1771705800@paulina-ovadkova.com
SUMMARY:Kammeroper Hamburg Lustige Witwe\, Valencienne
DESCRIPTION:Kammeroper Hamburg Lustige Witwe\, Valencienne \nCharacter: Valencienne Cast: Paulína Ovádková \nIn this production of The Merry Widow (Die lustige Witwe)\, Valencienne is portrayed as the dutiful wife of the Pontevedrian ambassador\, Baron Mirko Zeta. She finds herself in a precarious emotional situation\, trying in vain to resist the charms of the French aesthete Camille de Rosillon. The plot thickens when a fan containing a compromising love message begins to circulate\, throwing both her heart and her sense of propriety off balance. \nRolle: Valencienne Besetzung: Paulína Ovádková \nIn dieser Inszenierung der Lustigen Witwe ist Valencienne die pflichtbewusste Ehefrau des pontevedrinischen Gesandten Baron Mirko Zeta. Sie versucht vergeblich\, dem Charme des französischen Schöngeists Camille de Rosillon zu widerstehen. Die Situation spitzt sich zu\, als ein verräterischer Liebesgruß auf einem Fächer die Runde macht und Herz sowie Anstand endgültig aus dem Gleichgewicht geraten. \nLearn More
URL:https://paulina-ovadkova.com/concert/kammeroper-hamburg-lustige-witwe-valencienne-4/2026-02-21/
LOCATION:Hamburger Kammeroper\, Max-Brauer-Allee 76\, 22765\, Hamburg\, Germany
ATTACH;FMTTYPE=image/jpeg:https://paulina-ovadkova.com/wp-content/uploads/2025/05/WhatsApp-Image-2025-05-31-at-4.24.14-AM-2.jpeg
END:VEVENT
END:VCALENDAR