BEGIN:VCALENDAR
VERSION:2.0
PRODID:-//paulina-ovadkova.com - ECPv6.15.14//NONSGML v1.0//EN
CALSCALE:GREGORIAN
METHOD:PUBLISH
X-ORIGINAL-URL:https://paulina-ovadkova.com
X-WR-CALDESC:Events for paulina-ovadkova.com
REFRESH-INTERVAL;VALUE=DURATION:PT1H
X-Robots-Tag:noindex
X-PUBLISHED-TTL:PT1H
BEGIN:VTIMEZONE
TZID:Europe/Vienna
BEGIN:DAYLIGHT
TZOFFSETFROM:+0100
TZOFFSETTO:+0200
TZNAME:CEST
DTSTART:20250330T010000
END:DAYLIGHT
BEGIN:STANDARD
TZOFFSETFROM:+0200
TZOFFSETTO:+0100
TZNAME:CET
DTSTART:20251026T010000
END:STANDARD
BEGIN:DAYLIGHT
TZOFFSETFROM:+0100
TZOFFSETTO:+0200
TZNAME:CEST
DTSTART:20260329T010000
END:DAYLIGHT
BEGIN:STANDARD
TZOFFSETFROM:+0200
TZOFFSETTO:+0100
TZNAME:CET
DTSTART:20261025T010000
END:STANDARD
BEGIN:DAYLIGHT
TZOFFSETFROM:+0100
TZOFFSETTO:+0200
TZNAME:CEST
DTSTART:20270328T010000
END:DAYLIGHT
BEGIN:STANDARD
TZOFFSETFROM:+0200
TZOFFSETTO:+0100
TZNAME:CET
DTSTART:20271031T010000
END:STANDARD
END:VTIMEZONE
BEGIN:VEVENT
DTSTART;TZID=Europe/Vienna:20260324T170000
DTEND;TZID=Europe/Vienna:20260324T200000
DTSTAMP:20260421T075813
CREATED:20260202T083736Z
LAST-MODIFIED:20260202T083736Z
UID:10000193-1774371600-1774382400@paulina-ovadkova.com
SUMMARY:Die Zauberflöte Königin der Nacht\, State Opera Banska Bystrica in der Slowakei
DESCRIPTION:Die Zauberflöte Königin der Nacht\, State Opera Banska Bystrica in der Slowakei\nDie Sopranistin Paulina Ovadkova tritt in der Rolle der Königin der Nacht in Wolfgang Amadeus Mozarts Oper Die Zauberflöte an der Staatsoper Banská Bystrica in der Slowakei auf. \nDie Zauberflöte gehört zu den bedeutendsten Werken der Opernliteratur und ist ein Meisterwerk der Wiener Klassik. Die Partie der Königin der Nacht zählt zu den anspruchsvollsten Koloraturrollen des Opernrepertoires und ist weltweit für ihre Virtuosität und dramatische Ausdruckskraft bekannt. \nDiese Produktion an der Staatsoper Banská Bystrica bietet Opernliebhabern und Klassikpublikum ein außergewöhnliches musikalisches Erlebnis in der Slowakei. \n 
URL:https://paulina-ovadkova.com/concert/die-zauberfloete-queen-of-the-night/2026-03-24/
LOCATION:Banská Bystrica Stadttheater\, Slovakia (Slovak Republic)
ATTACH;FMTTYPE=image/jpeg:https://paulina-ovadkova.com/wp-content/uploads/2024/09/IMG_7115-scaled-e1726169800999.jpg
END:VEVENT
END:VCALENDAR